BEGIN:VCALENDAR
VERSION:2.0
PRODID:-//eventon.com NONSGML v1.0//EN
BEGIN:VEVENT
UID:69ecef39cbfd2
DTSTAMP:20260425T094337
DTSTART:20190928T050000Z
DTEND:20190928T065000Z
LOCATION:XS NightClub 3131 S Las Vegas Blvd\,  Las Vegas\,  NV 89109
SUMMARY:XS NightClub 9/27/19
DESCRIPTION: Guest List Time & Details…  Arrival 10pm-1am Ladies free TILL 1AM Guys free 1:1 ratio until 12AM &nbsp; BOTTLE SERVICE? Ask Cj 7027084409
END:VEVENT
END:VCALENDAR