BEGIN:VCALENDAR
VERSION:2.0
PRODID:-//eventon.com NONSGML v1.0//EN
BEGIN:VEVENT
UID:69ebf4f4d99a1
DTSTAMP:20260424T155548
DTSTART:20190928T043000Z
DTEND:20190928T065000Z
LOCATION:Omnia NightCLub 570 S Las Vegas Blvd\,  Las Vegas\,  NV 89109
SUMMARY:Omnia (NightClub) 9/27/19
DESCRIPTION: Guest List Time & Details…  -ARRIVAL 930pm-11PM -Plan on 930 arrival -Girls free through guest-list; guys free -DO NOT RECOMMEND IF THIS IS YOUR FIRST TIME IN VEGAS LONG LINES
END:VEVENT
END:VCALENDAR