BEGIN:VCALENDAR
VERSION:2.0
PRODID:-//eventon.com NONSGML v1.0//EN
BEGIN:VEVENT
UID:69eb27b89d129
DTSTAMP:20260424T012008
DTSTART:20190922T180000Z
DTEND:20190923T065000Z
LOCATION:Wet Republic MGM Grand Hotel & Casino 3799\,  Boulevard South\,  Las Vegas\,  NV 89109
SUMMARY:Wet Republic (DayClub) 9/22/19
DESCRIPTION: DJ... STEVE AOKI Guest List Time & Details…  ARRIVAL 11-2PM LaDies free Guys free  LOOKING TO BOOK A DAYBED OR CABANA? CONTACT CJ DIRECT @ 7027084409 
END:VEVENT
END:VCALENDAR