BEGIN:VCALENDAR
VERSION:2.0
PRODID:-//eventon.com NONSGML v1.0//EN
BEGIN:VEVENT
UID:69eb023473ca9
DTSTAMP:20260423T224004
DTSTART:20190922T180000Z
DTEND:20190923T065000Z
LOCATION:Encore BeachClub 3131 S Las Vegas Blvd\,  Las Vegas\,  NV 89109
SUMMARY:Encore BeachClub (DayClub) 9/22/19
DESCRIPTION: CHAINSMOKERS Guest List Time & Details…  ARRIVAL 11-3PM LaDies free Guys pay reduced cover until 12PM (They do not tell us reduced pricing) LOOKING TO BOOK A DAYBED OR CABANA? CONTACT CJ DIRECT @ 7027084409
END:VEVENT
END:VCALENDAR