BEGIN:VCALENDAR
VERSION:2.0
PRODID:-//eventon.com NONSGML v1.0//EN
BEGIN:VEVENT
UID:69eaeef7e571c
DTSTAMP:20260423T211759
DTSTART:20190921T180000Z
DTEND:20190922T065000Z
LOCATION:Encore BeachClub 3131 S Las Vegas Blvd\,  Las Vegas\,  NV 89109
SUMMARY:Encore BeachClub (DayClub) 9/21/19
DESCRIPTION: MAJOR LAZER Guest List Time & Details…  ARRIVAL 11-3PM LaDies free Guys pay reduced cover until 12PM (They do not tell us reduced pricing) LOOKING TO BOOK A DAYBED OR CABANA? CONTACT CJ DIRECT @ 7027084409
END:VEVENT
END:VCALENDAR