BEGIN:VCALENDAR
VERSION:2.0
PRODID:-//eventon.com NONSGML v1.0//EN
BEGIN:VEVENT
UID:69eadebc53a7f
DTSTAMP:20260423T200844
DTSTART:20190920T180000Z
DTEND:20190921T065000Z
LOCATION:Encore BeachClub 3131 S Las Vegas Blvd\,  Las Vegas\,  NV 89109
SUMMARY:Encore BeachClub (DayClub) 9/20/19
DESCRIPTION: ALESSO Guest List Time & Details…  ARRIVAL 11-3PM LaDies free Guys pay reduced cover until 12PM (They do not tell us reduced pricing) LOOKING TO BOOK A DAYBED OR CABANA? CONTACT CJ DIRECT @ 7027084409
END:VEVENT
END:VCALENDAR