BEGIN:VCALENDAR
VERSION:2.0
PRODID:-//eventon.com NONSGML v1.0//EN
BEGIN:VEVENT
UID:69eabc9a9b8c9
DTSTAMP:20260423T174306
DTSTART:20190921T050000Z
DTEND:20190921T065000Z
LOCATION:Encore BeachClub 3131 S Las Vegas Blvd\,  Las Vegas\,  NV 89109
SUMMARY:Encore BeachClub (NightSwim) 9/20/19 (DRINK SPECIAL FOR LADIES)
DESCRIPTION: DJ… SAY MY NAME Guest List Time & Details…  Arrival 10pm-1am Ladies free TILL 1AM Guys free 1:1 ratio until 12AM FREE DRINK TICKETS FOR LADIES BEFORE 11PM ARRIVAL &nbsp; BOTTLE SERVICE? Ask Cj 7027084409 &nbsp;
END:VEVENT
END:VCALENDAR