BEGIN:VCALENDAR
VERSION:2.0
PRODID:-//eventon.com NONSGML v1.0//EN
BEGIN:VEVENT
UID:69eaa1e7f0733
DTSTAMP:20260423T154911
DTSTART:20190922T050000Z
DTEND:20190922T065000Z
LOCATION:Encore BeachClub 3131 S Las Vegas Blvd\,  Las Vegas\,  NV 89109
SUMMARY:Encore BeachClub (NightSwim) 9/21/19 (DRINK SPECIAL FOR LADIES)
DESCRIPTION: DJ… RL GRIME Guest List Time & Details…  Arrival 10pm-1am Ladies free TILL 1AM Guys free 1:1 ratio until 12AM FREE DRINK TICKETS FOR LADIES BEFORE 11PM ARRIVAL &nbsp; BOTTLE SERVICE? Ask Cj 7027084409 &nbsp;
END:VEVENT
END:VCALENDAR