BEGIN:VCALENDAR
VERSION:2.0
PRODID:-//eventon.com NONSGML v1.0//EN
BEGIN:VEVENT
UID:69ea8f2de2eca
DTSTAMP:20260423T142917
DTSTART:20190922T050000Z
DTEND:20190922T065000Z
LOCATION:Tao NightClub 3377 S Las Vegas Blvd\,  Las Vegas\,  NV 89109
SUMMARY:TAO (NightClub) 9/21/19 (FREE DRINK SPECIAL FOR LADIES)
DESCRIPTION: DJ… JUSTIN CREDIBLE (TOP 40 HIP HOP)   Guest List Time & Details…  Arrival 10pm-1am LADIES Open bar is from 11:30-12:30AM  Ladies free Guys free 1:1 ratio  &nbsp;
END:VEVENT
END:VCALENDAR