BEGIN:VCALENDAR
VERSION:2.0
PRODID:-//eventon.com NONSGML v1.0//EN
BEGIN:VEVENT
UID:69ea34cb10d05
DTSTAMP:20260423T080339
DTSTART:20190922T050000Z
DTEND:20190922T065000Z
LOCATION:Hakkasan 3799 S Las Vegas Blvd\,  Las Vegas\,  NV 89109
SUMMARY:Hakkasan (NightClub) 9/21/19
DESCRIPTION: DJ… STEVE AOKI Guest List Time & Details…  -ARRIVAL 10-1am -Girls free through guest-list; guys free till 12 &nbsp; Bottle service? Ask CJ for Pricing minimums typically start $1000 minimum &nbsp;
END:VEVENT
END:VCALENDAR