BEGIN:VCALENDAR
VERSION:2.0
PRODID:-//eventon.com NONSGML v1.0//EN
BEGIN:VEVENT
UID:69e9eeb2c8d08
DTSTAMP:20260423T030434
DTSTART:20190922T050000Z
DTEND:20190922T065000Z
LOCATION:XS NightClub 3131 S Las Vegas Blvd\,  Las Vegas\,  NV 89109
SUMMARY:XS NightClub 9/21/19
DESCRIPTION: DJ… ALESSO Guest List Time & Details…  Arrival 10pm-1am Ladies free TILL 1AM Guys free 1:1 ratio until 12AM &nbsp; BOTTLE SERVICE? Ask Cj 7027084409
END:VEVENT
END:VCALENDAR