BEGIN:VCALENDAR
VERSION:2.0
PRODID:-//eventon.com NONSGML v1.0//EN
BEGIN:VEVENT
UID:69e9d7db097cd
DTSTAMP:20260423T012707
DTSTART:20190921T050000Z
DTEND:20190921T065000Z
LOCATION:XS NightClub 3131 S Las Vegas Blvd\,  Las Vegas\,  NV 89109
SUMMARY:XS NightClub 9/20/19
DESCRIPTION: DJ… CHAINSMOKERS Guest List Time & Details…  Arrival 10pm-1am Ladies free TILL 1AM Guys free 1:1 ratio until 12AM &nbsp; BOTTLE SERVICE? Ask Cj 7027084409
END:VEVENT
END:VCALENDAR