BEGIN:VCALENDAR
VERSION:2.0
PRODID:-//eventon.com NONSGML v1.0//EN
BEGIN:VEVENT
UID:69e9c3e3e00c4
DTSTAMP:20260423T000155
DTSTART:20190923T050000Z
DTEND:20190923T065000Z
LOCATION:XS NightClub 3131 S Las Vegas Blvd\,  Las Vegas\,  NV 89109
SUMMARY:XS NightClub (NightSwim) 9/22/19
DESCRIPTION: **NIGHTSWIM** DJ… RUFUS DU SOL Guest List Time & Details…  Arrival 10-1AM Ladies free  guys free 1:1 ratio until 12 BOTTLE SERVICE? Ask Cj 7027084409 &nbsp;
END:VEVENT
END:VCALENDAR