BEGIN:VCALENDAR
VERSION:2.0
PRODID:-//eventon.com NONSGML v1.0//EN
BEGIN:VEVENT
UID:69e999965b9e1
DTSTAMP:20260422T210126
DTSTART:20190921T043000Z
DTEND:20190921T065000Z
LOCATION:Omnia NightCLub 570 S Las Vegas Blvd\,  Las Vegas\,  NV 89109
SUMMARY:Omnia (NightClub) 9/20/19
DESCRIPTION: DJ… CALVIN HARRIS Guest List Time & Details…  -ARRIVAL 930pm-11pm  -Ladies free guys PAY  Must arrive early do not recommend if first time in Vegas.
END:VEVENT
END:VCALENDAR