BEGIN:VCALENDAR
VERSION:2.0
PRODID:-//eventon.com NONSGML v1.0//EN
BEGIN:VEVENT
UID:69e987efb754b
DTSTAMP:20260422T194607
DTSTART:20190922T180000Z
DTEND:20190923T065000Z
LOCATION:Tao Beach Club 3377 S Las Vegas Blvd\,  Las Vegas\,  NV 89109
SUMMARY:TAO BeachClub (DayClub) 9/22/19 (FREE DRINK SPECIAL FOR LADIES)
DESCRIPTION: DJ... SEV ONE Guest List Time & Details…  ARRIVAL 11-3PM LaDies free Guys free 1:1 ratio LADIES OPEN BAR 1-2pm  LOOKING TO BOOK A DAYBED OR CABANA? CONTACT CJ DIRECT @ 7027084409
END:VEVENT
END:VCALENDAR