BEGIN:VCALENDAR
VERSION:2.0
PRODID:-//eventon.com NONSGML v1.0//EN
BEGIN:VEVENT
UID:69e95d1e5aaea
DTSTAMP:20260422T164326
DTSTART:20190920T180000Z
DTEND:20190921T065000Z
LOCATION:Tao Beach Club 3377 S Las Vegas Blvd\,  Las Vegas\,  NV 89109
SUMMARY:TAO BeachClub (DayClub) 9/20/19 (FREE DRINK SPECIAL FOR LADIES)
DESCRIPTION: DJ... KAY THE RIOT Guest List Time & Details…  ARRIVAL 11-3PM LaDies free Guys free 1:1 ratio LADIES OPEN BAR 1-2pm  LOOKING TO BOOK A DAYBED OR CABANA? CONTACT CJ DIRECT @ 7027084409
END:VEVENT
END:VCALENDAR