BEGIN:VCALENDAR
VERSION:2.0
PRODID:-//eventon.com NONSGML v1.0//EN
BEGIN:VEVENT
UID:69e9445a2f5fb
DTSTAMP:20260422T145746
DTSTART:20190920T050000Z
DTEND:20190920T065000Z
LOCATION:Drais BeachClub (NightClub) 3595 S Las Vegas Blvd\,  Las Vegas\,  NV 89109
SUMMARY:Drais Nightswim (NightClub) 9/19/19
DESCRIPTION: NIGHTSWIM PARTY  FRANZEN / SHIFT -ARRIVAL 10-12AM -Girls free through guest-list till 10:30pm; guys pay reduced until 11pm **ASK CJ ABOUT THE 2 BOTTLES OF EFFEN VODKA DEAL** 1 BOTTLE PER ($600 PLUS TAX AND GRAT SO $800 FOR EVERY FOUR PEOPLE BUT YOU’D RECEIVE A TABLE WITH YOUR BOTTLE[..]
END:VEVENT
END:VCALENDAR