BEGIN:VCALENDAR
VERSION:2.0
PRODID:-//eventon.com NONSGML v1.0//EN
BEGIN:VEVENT
UID:69e9321615032
DTSTAMP:20260422T133950
DTSTART:20190923T050000Z
DTEND:20190923T065000Z
LOCATION:Drais BeachClub (NightClub) 3595 S Las Vegas Blvd\,  Las Vegas\,  NV 89109
SUMMARY:Drais Nightclub 9/22/19
DESCRIPTION: DJ FRANZEN ARRIVAL- 10-12 LADIES FREE GENTS FREE 1:1 RATIO
END:VEVENT
END:VCALENDAR