BEGIN:VCALENDAR
VERSION:2.0
PRODID:-//eventon.com NONSGML v1.0//EN
BEGIN:VEVENT
UID:69e91d6b436d8
DTSTAMP:20260422T121139
DTSTART:20190922T050000Z
DTEND:20190922T065000Z
LOCATION:Drais BeachClub (NightClub) 3595 S Las Vegas Blvd\,  Las Vegas\,  NV 89109
SUMMARY:Drais Nightclub 9/21/19
DESCRIPTION: MIGOS TICKETS ONLY OR TABLES (FREE ENTRY WITH A TABLE) ASK CJ FOR PRICING 7027084409
END:VEVENT
END:VCALENDAR