BEGIN:VCALENDAR
VERSION:2.0
PRODID:-//eventon.com NONSGML v1.0//EN
BEGIN:VEVENT
UID:69e90699a7e9b
DTSTAMP:20260422T103417
DTSTART:20190921T050000Z
DTEND:20190921T065000Z
LOCATION:Drais BeachClub (NightClub) 3595 S Las Vegas Blvd\,  Las Vegas\,  NV 89109
SUMMARY:Drais Nightclub 9/20/19
DESCRIPTION: FRENCH MONTANA -ARRIVAL 10-12AM -Girls free through guest-list till 10:30pm; guys pay reduced until 11pm **ASK CJ ABOUT THE 2 BOTTLES OF EFFEN VODKA DEAL** 1 BOTTLE PER ($600 PLUS TAX AND GRAT SO $800 FOR EVERY FOUR PEOPLE BUT YOU’D RECEIVE A TABLE WITH YOUR BOTTLE MINIMUM MUST TXT[..]
END:VEVENT
END:VCALENDAR