BEGIN:VCALENDAR
VERSION:2.0
PRODID:-//eventon.com NONSGML v1.0//EN
BEGIN:VEVENT
UID:69e8da9928363
DTSTAMP:20260422T072633
DTSTART:20190929T050000Z
DTEND:20190929T065000Z
LOCATION:Marquee NightClub 3708 S Las Vegas Blvd\,  Las Vegas\,  NV 89109
SUMMARY:Marquee NightClub 9/28/19 (FREE DRINK SPECIAL FOR LADIES)
DESCRIPTION: DJ… R3HAB (EVERYTHING)   Guest List Time & Details…  Arrival 10pm-1am LADIES Open bar is from 11:30-12:30am  Ladies free Guys free 1:1 ratio 
END:VEVENT
END:VCALENDAR