BEGIN:VCALENDAR
VERSION:2.0
PRODID:-//eventon.com NONSGML v1.0//EN
BEGIN:VEVENT
UID:69e8a9f9dedea
DTSTAMP:20260422T035905
DTSTART:20190921T050000Z
DTEND:20190921T065000Z
LOCATION:Marquee NightClub 3708 S Las Vegas Blvd\,  Las Vegas\,  NV 89109
SUMMARY:Marquee NightClub 9/20/19 (FREE DRINK SPECIAL FOR LADIES)
DESCRIPTION: DJ… ERIC DLUX (EVERYTHING)   Guest List Time & Details…  Arrival 10pm-1am LADIES Open bar is from 11:30-12:30am  Ladies free Guys free 1:1 ratio 
END:VEVENT
END:VCALENDAR