BEGIN:VCALENDAR
VERSION:2.0
PRODID:-//eventon.com NONSGML v1.0//EN
BEGIN:VEVENT
UID:69eba0fe21711
DTSTAMP:20260424T095734
DTSTART:20191023T070000Z
DTEND:20191024T065900Z
LOCATION:Sapphire 3025 S Sammy Davis Jr Dr\,  Las Vegas\,  NV 89109
SUMMARY:Sapphire Las Vegas Gentlemen's Club
DESCRIPTION: Top Las Vegas Strip Club &nbsp; $40 per person 2 Drinks Included Free Limo Ride There & Back! Pick up is from anywhere on LV Strip + Fremont ST
END:VEVENT
END:VCALENDAR