BEGIN:VCALENDAR
VERSION:2.0
PRODID:-//eventon.com NONSGML v1.0//EN
BEGIN:VEVENT
UID:69eb036e5af58
DTSTAMP:20260423T224518
DTSTART:20191028T070000Z
DTEND:20191029T065900Z
LOCATION:Sapphire 3025 S Sammy Davis Jr Dr\,  Las Vegas\,  NV 89109
SUMMARY:Sapphire Las Vegas Gentlemen's Club
DESCRIPTION: Top Las Vegas Strip Club &nbsp; $40 per person 2 Drinks Included Free Limo Ride There & Back! Pick up is from anywhere on LV Strip + Fremont ST
END:VEVENT
END:VCALENDAR