BEGIN:VCALENDAR
VERSION:2.0
PRODID:-//eventon.com NONSGML v1.0//EN
BEGIN:VEVENT
UID:69e88fb161c44
DTSTAMP:20260422T020657
DTSTART:20190923T070000Z
DTEND:20190924T065900Z
LOCATION:Sapphire 3025 S Sammy Davis Jr Dr\,  Las Vegas\,  NV 89109
SUMMARY:Sapphire Las Vegas Gentlemen's Club
DESCRIPTION: Top Las Vegas Strip Club &nbsp; $40 per person 2 Drinks Included Free Limo Ride There & Back! Pick up is from anywhere on LV Strip + Fremont ST
END:VEVENT
END:VCALENDAR