BEGIN:VCALENDAR
VERSION:2.0
PRODID:-//eventon.com NONSGML v1.0//EN
BEGIN:VEVENT
UID:69e8823a5aa53
DTSTAMP:20260422T010930
DTSTART:20190923T070000Z
DTEND:20190924T065900Z
LOCATION:Spearmint Rhino Gentlemen&#039;s Club 3340 S Highland Dr\,  Las Vegas\,  NV 89109
SUMMARY:Spearmint Rhino Gentlemen's Club
DESCRIPTION: Top Las Vegas Strip Club &nbsp; $40 per person 2 Drinks Included Free Limo Ride There & Back! Pick up is from anywhere on LV Strip + Fremont ST
END:VEVENT
END:VCALENDAR