BEGIN:VCALENDAR
VERSION:2.0
PRODID:-//eventon.com NONSGML v1.0//EN
BEGIN:VEVENT
UID:69e992d377359
DTSTAMP:20260422T203235
DTSTART:20190926T070000Z
DTEND:20190927T065900Z
LOCATION:Spearmint Rhino Gentlemen&#039;s Club 3340 S Highland Dr\,  Las Vegas\,  NV 89109
SUMMARY:Spearmint Rhino Gentlemen's Club
DESCRIPTION: Top Las Vegas Strip Club &nbsp; $40 per person 2 Drinks Included Free Limo Ride There & Back! Pick up is from anywhere on LV Strip + Fremont ST
END:VEVENT
END:VCALENDAR