BEGIN:VCALENDAR
VERSION:2.0
PRODID:-//eventon.com NONSGML v1.0//EN
BEGIN:VEVENT
UID:69ecfaa96c6a1
DTSTAMP:20260425T103225
DTSTART:20191027T070000Z
DTEND:20191028T065900Z
LOCATION:Crazy Horse 3 Gentlemen&#039;s Club 3525 W Russell Rd\,  Las Vegas\,  NV 89118
SUMMARY:Crazy Horse 3 Gentlemen's Club
DESCRIPTION: Top Las Vegas Strip Club &nbsp; $40 per person 2 Drinks Included Free Limo Ride There & Back! Pick up is from anywhere on LV Strip + Fremont ST
END:VEVENT
END:VCALENDAR