BEGIN:VCALENDAR
VERSION:2.0
PRODID:-//eventon.com NONSGML v1.0//EN
BEGIN:VEVENT
UID:69e9867ec6dfe
DTSTAMP:20260422T193958
DTSTART:20190919T070000Z
DTEND:20190920T065900Z
LOCATION:Crazy Horse 3 Gentlemen&#039;s Club 3525 W Russell Rd\,  Las Vegas\,  NV 89118
SUMMARY:Crazy Horse 3 Gentlemen's Club
DESCRIPTION: Top Las Vegas Strip Club &nbsp; $40 per person 2 Drinks Included Free Limo Ride There & Back! Pick up is from anywhere on LV Strip + Fremont ST
END:VEVENT
END:VCALENDAR