BEGIN:VCALENDAR
VERSION:2.0
PRODID:-//eventon.com NONSGML v1.0//EN
BEGIN:VEVENT
UID:69e948301b123
DTSTAMP:20260422T151408
DTSTART:20190911T070000Z
DTEND:20190912T065900Z
LOCATION:Treasures 2801 Westwood Dr\,  Las Vegas\,  NV 89109
SUMMARY:Treasures Gentlemen's Club & Steakhouse
DESCRIPTION: Top Las Vegas Strip Club &nbsp; $40 per person 2 Drinks Included Free Limo Ride There & Back! Pick up is from anywhere on LV Strip + Fremont ST
END:VEVENT
END:VCALENDAR