BEGIN:VCALENDAR
VERSION:2.0
PRODID:-//eventon.com NONSGML v1.0//EN
BEGIN:VEVENT
UID:69e883dfe5e01
DTSTAMP:20260422T011631
DTSTART:20191101T043000Z
DTEND:20191101T065000Z
LOCATION:APEX + KAOS 4321 W Flamingo Rd\,  Las Vegas\,  NV 89103
SUMMARY:KAOS & APEX (NightClub) 10/31/19
DESCRIPTION: PALMS HOTEL (PARTY 55 FLOORS UP ROOFTOP @ APEX)   DJ @ APEX: Always a resident DJ Guest List Time & Details…  -ARRIVAL 10PM-1AM @ Apex... Kaos is until 12am -Girls free through guest-list; guys PAY $50 1:1 ratio at KAOS free 1:1 ratio at APEX GIRLS FREE DRINK TICKETS @ APEX! I[..]
END:VEVENT
END:VCALENDAR