BEGIN:VCALENDAR
VERSION:2.0
PRODID:-//eventon.com NONSGML v1.0//EN
BEGIN:VEVENT
UID:69e8adaee5219
DTSTAMP:20260422T041454
DTSTART:20190914T043000Z
DTEND:20190914T065000Z
LOCATION:Omnia NightCLub 570 S Las Vegas Blvd\,  Las Vegas\,  NV 89109
SUMMARY:Omnia (NightClub) 9/14/19
DESCRIPTION: DJ… ZEDD Guest List Time & Details…  -ARRIVAL 930pm-11PM -Plan on 930 arrival -Girls free through guest-list; guys free -DO NOT RECOMMEND IF THIS IS YOUR FIRST TIME IN VEGAS LONG LINES
END:VEVENT
END:VCALENDAR