BEGIN:VCALENDAR
VERSION:2.0
PRODID:-//eventon.com NONSGML v1.0//EN
BEGIN:VEVENT
UID:69e8db0a2d8c4
DTSTAMP:20260422T072826
DTSTART:20190915T050000Z
DTEND:20190915T065000Z
LOCATION:XS NightClub 3131 S Las Vegas Blvd\,  Las Vegas\,  NV 89109
SUMMARY:XS NightClub 9/14/19
DESCRIPTION: DJ… DRAKE TICKETS AND BOTTLE SERVICE ONLY BOTTLE SERVICE? Ask Cj 7027084409
END:VEVENT
END:VCALENDAR