BEGIN:VCALENDAR
VERSION:2.0
PRODID:-//eventon.com NONSGML v1.0//EN
BEGIN:VEVENT
UID:69e8f2b3383da
DTSTAMP:20260422T090923
DTSTART:20190914T050000Z
DTEND:20190914T065000Z
LOCATION:XS NightClub 3131 S Las Vegas Blvd\,  Las Vegas\,  NV 89109
SUMMARY:XS NightClub 9/13/19
DESCRIPTION: DJ… CHAIN SMOKERS Guest List Time & Details…  Arrival 10pm-1am Ladies free TILL 1AM Guys free 1:1 ratio until 12AM &nbsp; BOTTLE SERVICE? Ask Cj 7027084409
END:VEVENT
END:VCALENDAR