BEGIN:VCALENDAR
VERSION:2.0
PRODID:-//eventon.com NONSGML v1.0//EN
BEGIN:VEVENT
UID:69e9207e988b4
DTSTAMP:20260422T122446
DTSTART:20190915T050000Z
DTEND:20190915T065000Z
LOCATION:Marquee NightClub 3708 S Las Vegas Blvd\,  Las Vegas\,  NV 89109
SUMMARY:Marquee NightClub 9/14/19
DESCRIPTION: **TRAVIS SCOTT LIVE** Guest List Time & Details…  Arrival 9:30-10pm RECOMMEND HIGHLY there will be wild lines here! Ladies free Guys pay &nbsp; TXT CJ FOR TABLE PRICING 7027084409 &nbsp;
END:VEVENT
END:VCALENDAR