BEGIN:VCALENDAR
VERSION:2.0
PRODID:-//eventon.com NONSGML v1.0//EN
BEGIN:VEVENT
UID:69e93693aefa1
DTSTAMP:20260422T135859
DTSTART:20190914T050000Z
DTEND:20190914T065000Z
LOCATION:Marquee NightClub 3708 S Las Vegas Blvd\,  Las Vegas\,  NV 89109
SUMMARY:Marquee NightClub 9/13/19 (FREE DRINK SPECIAL FOR LADIES)
DESCRIPTION: DJ DEORRO (EVERYTHING)   Guest List Time & Details…  Arrival 10pm-1am LADIES Open bar is from 11:30-12:30Am  Ladies free Guys pay $10 off cover **PREGAME AT BEAUTY AND ESSEX FOR FREE CHAMPAGNE OPEN BAR 10-11PM** BOTTLE SERVICE? TXT CJ @ 7027084409 &nbsp;
END:VEVENT
END:VCALENDAR