BEGIN:VCALENDAR
VERSION:2.0
PRODID:-//eventon.com NONSGML v1.0//EN
BEGIN:VEVENT
UID:69e94a5818e6f
DTSTAMP:20260422T152320
DTSTART:20190916T050000Z
DTEND:20190916T065000Z
LOCATION:Hakkasan 3799 S Las Vegas Blvd\,  Las Vegas\,  NV 89109
SUMMARY:Hakkasan (NightClub) 9/15/19
DESCRIPTION: DJ… IRIE Guest List Time & Details…  -ARRIVAL 10-1am -Girls free through guest-list; guys free till 12 &nbsp; Bottle service? Ask CJ for Pricing minimums typically start $600 minimum &nbsp;
END:VEVENT
END:VCALENDAR