BEGIN:VCALENDAR
VERSION:2.0
PRODID:-//eventon.com NONSGML v1.0//EN
BEGIN:VEVENT
UID:69e96157a01ef
DTSTAMP:20260422T170127
DTSTART:20190915T050000Z
DTEND:20190915T065000Z
LOCATION:Hakkasan 3799 S Las Vegas Blvd\,  Las Vegas\,  NV 89109
SUMMARY:Hakkasan (NightClub) 9/14/19
DESCRIPTION: DJ… TIESTO Guest List Time & Details…  -ARRIVAL 930-11Pm -Girls free through guest-list; guys free &nbsp; Bottle service? Ask CJ for Pricing minimums typically start $1000 minimum &nbsp;
END:VEVENT
END:VCALENDAR