BEGIN:VCALENDAR
VERSION:2.0
PRODID:-//eventon.com NONSGML v1.0//EN
BEGIN:VEVENT
UID:69e9751ada233
DTSTAMP:20260422T182546
DTSTART:20190914T050000Z
DTEND:20190914T065000Z
LOCATION:Hakkasan 3799 S Las Vegas Blvd\,  Las Vegas\,  NV 89109
SUMMARY:Hakkasan (NightClub) 9/13/19
DESCRIPTION: DJ… ILLENIUM Guest List Time & Details…  -ARRIVAL 10-1am -Girls free through guest-list; guys free till 12 LONG GUESTLIST LINES &nbsp; Bottle service? Ask CJ for Pricing minimums typically start $1000 minimum &nbsp;
END:VEVENT
END:VCALENDAR