BEGIN:VCALENDAR
VERSION:2.0
PRODID:-//eventon.com NONSGML v1.0//EN
BEGIN:VEVENT
UID:69e99f215ee02
DTSTAMP:20260422T212505
DTSTART:20190916T050000Z
DTEND:20190916T065000Z
LOCATION:Drais BeachClub (NightClub) 3595 S Las Vegas Blvd\,  Las Vegas\,  NV 89109
SUMMARY:Drais Nightclub 9/15/19
DESCRIPTION: DJ… Latin Night Guest List Time & Details…  Arrival 10-12AM LADIES free till 11pm guys free 1:1 ratio  &nbsp; **ASK CJ ABOUT THE 2 BOTTLES OF EFFEN VODKA DEAL** 1 BOTTLE PER ($600 PLUS TAX AND GRAT SO $800 FOR EVERY FOUR PEOPLE BUT YOU’D RECEIVE A TABLE WITH YOUR[..]
END:VEVENT
END:VCALENDAR