BEGIN:VCALENDAR
VERSION:2.0
PRODID:-//eventon.com NONSGML v1.0//EN
BEGIN:VEVENT
UID:69e9b6512586a
DTSTAMP:20260422T230401
DTSTART:20190915T050000Z
DTEND:20190915T065000Z
LOCATION:Drais BeachClub (NightClub) 3595 S Las Vegas Blvd\,  Las Vegas\,  NV 89109
SUMMARY:Drais Nightclub 9/14/19
DESCRIPTION: GUCCI MANE Guest List Time & Details…  Arrival 10-12AM LADIES free till 11pm guys pay reduced **ASK CJ ABOUT THE 2 BOTTLES OF EFFEN VODKA DEAL** 1 BOTTLE PER ($600 PLUS TAX AND GRAT SO $800 FOR EVERY FOUR PEOPLE BUT YOU’D RECEIVE A TABLE WITH YOUR BOTTLE MINIMUM MUST[..]
END:VEVENT
END:VCALENDAR