BEGIN:VCALENDAR
VERSION:2.0
PRODID:-//eventon.com NONSGML v1.0//EN
BEGIN:VEVENT
UID:69e9e42cc6cd7
DTSTAMP:20260423T021940
DTSTART:20190913T050000Z
DTEND:20190913T065000Z
LOCATION:Drais BeachClub (NightClub) 3595 S Las Vegas Blvd\,  Las Vegas\,  NV 89109
SUMMARY:Drais Nightswim (NightClub) 9/12/19
DESCRIPTION: NIGHTSWIM PARTY  NELLY -ARRIVAL 10-12AM -Girls free through guest-list till 10:30pm; guys pay reduced until 11pm **ASK CJ ABOUT THE 2 BOTTLES OF EFFEN VODKA DEAL** 1 BOTTLE PER ($600 PLUS TAX AND GRAT SO $800 FOR EVERY FOUR PEOPLE BUT YOU’D RECEIVE A TABLE WITH YOUR BOTTLE MINIMUM MUST[..]
END:VEVENT
END:VCALENDAR