BEGIN:VCALENDAR
VERSION:2.0
PRODID:-//eventon.com NONSGML v1.0//EN
BEGIN:VEVENT
UID:69e9fa85c1771
DTSTAMP:20260423T035501
DTSTART:20190915T050000Z
DTEND:20190915T065000Z
LOCATION:Tao NightClub 3377 S Las Vegas Blvd\,  Las Vegas\,  NV 89109
SUMMARY:TAO (NightClub) 9/14/19 (FREE DRINK SPECIAL FOR LADIES)
DESCRIPTION: DJ… ERIC DLUX (TOP 40 HIP HOP) Guest List Time & Details…  Arrival 10pm-1am LADIES Open bar is from 11:30-12:30Am  Ladies free Guys free 1:1 ratio BOTTLE SERVICE? TXT CJ @ 7027084409
END:VEVENT
END:VCALENDAR