BEGIN:VCALENDAR
VERSION:2.0
PRODID:-//eventon.com NONSGML v1.0//EN
BEGIN:VEVENT
UID:69ea0c8c65464
DTSTAMP:20260423T051156
DTSTART:20190914T050000Z
DTEND:20190914T065000Z
LOCATION:Tao NightClub 3377 S Las Vegas Blvd\,  Las Vegas\,  NV 89109
SUMMARY:TAO (NightClub) 9/13/19 (FREE DRINK SPECIAL FOR LADIES)
DESCRIPTION: Tao…  DJ JUSTIN CREDIBLE (TOP 40 HIP HOP) Guest List Time & Details…  Arrival 10pm-1am LADIES Open bar is from 11:30-12:30Am  Ladies free Guys free 1:1 ratio  BOTTLE SERVICE? TXT CJ @ 7027084409 &nbsp;
END:VEVENT
END:VCALENDAR