BEGIN:VCALENDAR
VERSION:2.0
PRODID:-//eventon.com NONSGML v1.0//EN
BEGIN:VEVENT
UID:69ea36fbaead9
DTSTAMP:20260423T081259
DTSTART:20190915T050000Z
DTEND:20190915T065000Z
LOCATION:Encore BeachClub 3131 S Las Vegas Blvd\,  Las Vegas\,  NV 89109
SUMMARY:Encore BeachClub (NightSwim) 9/14/19
DESCRIPTION: DJ… DILLON FRANCIS Guest List Time & Details…  Arrival 10pm-1am Ladies free TILL 1AM Guys free 1:1 ratio until 12AM &nbsp; BOTTLE SERVICE? Ask Cj 7027084409 &nbsp;
END:VEVENT
END:VCALENDAR