BEGIN:VCALENDAR
VERSION:2.0
PRODID:-//eventon.com NONSGML v1.0//EN
BEGIN:VEVENT
UID:69ea4be9682df
DTSTAMP:20260423T094217
DTSTART:20190914T050000Z
DTEND:20190914T065000Z
LOCATION:Encore BeachClub 3131 S Las Vegas Blvd\,  Las Vegas\,  NV 89109
SUMMARY:Encore BeachClub (Nightswim) 9/13/19
DESCRIPTION: DJ… DIESEL (SHAQ) Guest List Time & Details…  -ARRIVAL 10pm-1am -Girls free through guest-list; guys free 1:1 ratio (TILL 12)
END:VEVENT
END:VCALENDAR