BEGIN:VCALENDAR
VERSION:2.0
PRODID:-//eventon.com NONSGML v1.0//EN
BEGIN:VEVENT
UID:69ea5f791c53f
DTSTAMP:20260423T110545
DTSTART:20190912T050000Z
DTEND:20190912T065000Z
LOCATION:Encore BeachClub 3131 S Las Vegas Blvd\,  Las Vegas\,  NV 89109
SUMMARY:Encore BeachClub (NightSwim) 9/11/19
DESCRIPTION: DJ… ALESSO Guest List Time & Details…  -ARRIVAL 10pm-1am -Girls free through guest-list; guys free 1:1 ratio (TILL 12)
END:VEVENT
END:VCALENDAR