BEGIN:VCALENDAR
VERSION:2.0
PRODID:-//eventon.com NONSGML v1.0//EN
BEGIN:VEVENT
UID:69ea72a8863a5
DTSTAMP:20260423T122736
DTSTART:20190915T180000Z
DTEND:20190916T065000Z
LOCATION:Wet Republic MGM Grand Hotel & Casino 3799\,  Boulevard South\,  Las Vegas\,  NV 89109
SUMMARY:Wet Republic (DayClub) 9/15/19
DESCRIPTION: DJ... TIESTO (EVERYTHING) Guest List Time & Details…  ARRIVAL 11-2PM LaDies free Guys free  LOOKING TO BOOK A DAYBED OR CABANA? CONTACT CJ DIRECT @ 7027084409 
END:VEVENT
END:VCALENDAR