BEGIN:VCALENDAR
VERSION:2.0
PRODID:-//eventon.com NONSGML v1.0//EN
BEGIN:VEVENT
UID:69ea8cffd3a7d
DTSTAMP:20260423T141959
DTSTART:20190914T180000Z
DTEND:20190915T065000Z
LOCATION:Wet Republic MGM Grand Hotel & Casino 3799\,  Boulevard South\,  Las Vegas\,  NV 89109
SUMMARY:Wet Republic (DayClub) 9/14/19
DESCRIPTION: DJ... Calvin Harris Guest List Time & Details…  ARRIVAL 11-12AM LADIES PAY REDUCED ADMISSION OF $20 LOOKING TO BOOK A DAYBED OR CABANA? CONTACT CJ DIRECT @ 7027084409 
END:VEVENT
END:VCALENDAR