BEGIN:VCALENDAR
VERSION:2.0
PRODID:-//eventon.com NONSGML v1.0//EN
BEGIN:VEVENT
UID:69eaa03b7c287
DTSTAMP:20260423T154203
DTSTART:20190913T180000Z
DTEND:20190914T065000Z
LOCATION:Wet Republic MGM Grand Hotel & Casino 3799\,  Boulevard South\,  Las Vegas\,  NV 89109
SUMMARY:Wet Republic (DayClub) 9/13/19
DESCRIPTION: DJ... SHIFT Guest List Time & Details…  ARRIVAL 11-2PM LaDies free Guys free  LOOKING TO BOOK A DAYBED OR CABANA? CONTACT CJ DIRECT @ 7027084409 
END:VEVENT
END:VCALENDAR